BEGIN:VCALENDAR
VERSION:2.0
PRODID:-//First United Methodist Church of Fort Worth - ECPv6.15.20//NONSGML v1.0//EN
CALSCALE:GREGORIAN
METHOD:PUBLISH
X-ORIGINAL-URL:https://fumcfw.org
X-WR-CALDESC:Events for First United Methodist Church of Fort Worth
REFRESH-INTERVAL;VALUE=DURATION:PT1H
X-Robots-Tag:noindex
X-PUBLISHED-TTL:PT1H
BEGIN:VTIMEZONE
TZID:America/Chicago
BEGIN:DAYLIGHT
TZOFFSETFROM:-0600
TZOFFSETTO:-0500
TZNAME:CDT
DTSTART:20240310T080000
END:DAYLIGHT
BEGIN:STANDARD
TZOFFSETFROM:-0500
TZOFFSETTO:-0600
TZNAME:CST
DTSTART:20241103T070000
END:STANDARD
BEGIN:DAYLIGHT
TZOFFSETFROM:-0600
TZOFFSETTO:-0500
TZNAME:CDT
DTSTART:20250309T080000
END:DAYLIGHT
BEGIN:STANDARD
TZOFFSETFROM:-0500
TZOFFSETTO:-0600
TZNAME:CST
DTSTART:20251102T070000
END:STANDARD
BEGIN:DAYLIGHT
TZOFFSETFROM:-0600
TZOFFSETTO:-0500
TZNAME:CDT
DTSTART:20260308T080000
END:DAYLIGHT
BEGIN:STANDARD
TZOFFSETFROM:-0500
TZOFFSETTO:-0600
TZNAME:CST
DTSTART:20261101T070000
END:STANDARD
BEGIN:DAYLIGHT
TZOFFSETFROM:-0600
TZOFFSETTO:-0500
TZNAME:CDT
DTSTART:20270314T080000
END:DAYLIGHT
BEGIN:STANDARD
TZOFFSETFROM:-0500
TZOFFSETTO:-0600
TZNAME:CST
DTSTART:20271107T070000
END:STANDARD
END:VTIMEZONE
BEGIN:VEVENT
DTSTART;TZID=America/Chicago:20260419T173000
DTEND;TZID=America/Chicago:20260419T193000
DTSTAMP:20260423T104022
CREATED:20250912T154543Z
LAST-MODIFIED:20251028T160855Z
UID:10034509-1776619800-1776627000@fumcfw.org
SUMMARY:The Refuge
DESCRIPTION:Sundays | 5:30 – 7:30 pm\nJustin Youth Building\nNo meeting December 21 or 28\, 2025\n7th – 12th Grade students are invited to join us in the Justin Youth Building every Sunday evening from 5:30 – 7:30 pm for our Sunday evening gathering called The Refuge! This is a time for youth to recharge and hang out together. We begin each Refuge with a shared meal\, but every week is different\, so we’ll rotate between opportunities for service\, worship\, learning\, and fun! \n  \nRegister\n\n\n                \n                        \n                             \n							"*" indicates required fields \n                        					\n						Δ\n						\n						\n\n					\n                        Student Name*\n                            \n                            \n                                                    \n                                                    First\n                                                \n                            \n                            \n                                                    \n                                                    Last\n                                                \n                            \n                        Parent Name*\n                            \n                            \n                                                    \n                                                    First\n                                                \n                            \n                            \n                                                    \n                                                    Last\n                                                \n                            \n                        Email*\n                            \n                        Phone*Grade*Grade6789101112Dietary RestrictionsWould you like to make a donation?*\n			\n					\n					Yes\n			\n			\n					\n					No\n			PaymentDonation Amount*\n					\n				$3-$5 suggested donationTotal\n							\n						Credit Card*\n					\n						Cardholder Name\n					\n					\n						Card Details\n					\n				Billing Address*    \n                    \n                         \n                                        \n                                        Street Address\n                                    \n                                        \n                                        Address Line 2\n                                    \n                                    \n                                    City\n                                 \n                                        \n                                        State / Province / Region\n                                      \n                                    \n                                    ZIP / Postal Code\n                                \n                                        AfghanistanAlbaniaAlgeriaAmerican SamoaAndorraAngolaAnguillaAntarcticaAntigua and BarbudaArgentinaArmeniaArubaAustraliaAustriaAzerbaijanBahamasBahrainBangladeshBarbadosBelarusBelgiumBelizeBeninBermudaBhutanBoliviaBonaire\, Sint Eustatius and SabaBosnia and HerzegovinaBotswanaBouvet IslandBrazilBritish Indian Ocean TerritoryBrunei DarussalamBulgariaBurkina FasoBurundiCabo VerdeCambodiaCameroonCanadaCayman IslandsCentral African RepublicChadChileChinaChristmas IslandCocos IslandsColombiaComorosCongoCongo\, Democratic Republic of theCook IslandsCosta RicaCroatiaCubaCuraçaoCyprusCzechiaCôte d'IvoireDenmarkDjiboutiDominicaDominican RepublicEcuadorEgyptEl SalvadorEquatorial GuineaEritreaEstoniaEswatiniEthiopiaFalkland IslandsFaroe IslandsFijiFinlandFranceFrench GuianaFrench PolynesiaFrench Southern TerritoriesGabonGambiaGeorgiaGermanyGhanaGibraltarGreeceGreenlandGrenadaGuadeloupeGuamGuatemalaGuernseyGuineaGuinea-BissauGuyanaHaitiHeard Island and McDonald IslandsHoly SeeHondurasHong KongHungaryIcelandIndiaIndonesiaIranIraqIrelandIsle of ManIsraelItalyJamaicaJapanJerseyJordanKazakhstanKenyaKiribatiKorea\, Democratic People's Republic ofKorea\, Republic ofKuwaitKyrgyzstanLao People's Democratic RepublicLatviaLebanonLesothoLiberiaLibyaLiechtensteinLithuaniaLuxembourgMacaoMadagascarMalawiMalaysiaMaldivesMaliMaltaMarshall IslandsMartiniqueMauritaniaMauritiusMayotteMexicoMicronesiaMoldovaMonacoMongoliaMontenegroMontserratMoroccoMozambiqueMyanmarNamibiaNauruNepalNetherlandsNew CaledoniaNew ZealandNicaraguaNigerNigeriaNiueNorfolk IslandNorth MacedoniaNorthern Mariana IslandsNorwayOmanPakistanPalauPalestine\, State ofPanamaPapua New GuineaParaguayPeruPhilippinesPitcairnPolandPortugalPuerto RicoQatarRomaniaRussian FederationRwandaRéunionSaint BarthélemySaint Helena\, Ascension and Tristan da CunhaSaint Kitts and NevisSaint LuciaSaint MartinSaint Pierre and MiquelonSaint Vincent and the GrenadinesSamoaSan MarinoSao Tome and PrincipeSaudi ArabiaSenegalSerbiaSeychellesSierra LeoneSingaporeSint MaartenSlovakiaSloveniaSolomon IslandsSomaliaSouth AfricaSouth Georgia and the South Sandwich IslandsSouth SudanSpainSri LankaSudanSurinameSvalbard and Jan MayenSwedenSwitzerlandSyria Arab RepublicTaiwanTajikistanTanzania\, the United Republic ofThailandTimor-LesteTogoTokelauTongaTrinidad and TobagoTunisiaTurkmenistanTurks and Caicos IslandsTuvaluTürkiyeUS Minor Outlying IslandsUgandaUkraineUnited Arab EmiratesUnited KingdomUnited StatesUruguayUzbekistanVanuatuVenezuelaViet NamVirgin Islands\, BritishVirgin Islands\, U.S.Wallis and FutunaWestern SaharaYemenZambiaZimbabweÅland Islands\n                                        Country
URL:https://fumcfw.org/event/refuge/2026-04-19/
LOCATION:Justin Youth Building\, 801 W. 5th Street\, Fort Worth\, TX\, 76102\, United States
ATTACH;FMTTYPE=image/jpeg:https://fumcfw.org/wp-content/uploads/2025/09/The-Refuge25_EV.jpg
END:VEVENT
BEGIN:VEVENT
DTSTART;TZID=America/Chicago:20260419T093000
DTEND;TZID=America/Chicago:20260419T103000
DTSTAMP:20260423T104023
CREATED:20251223T183849Z
LAST-MODIFIED:20251223T183849Z
UID:10034475-1776591000-1776594600@fumcfw.org
SUMMARY:Youth Sunday School
DESCRIPTION:Sundays | September 14\, 2025 – May 3\, 2026\n9:30 – 10:30 am | Justin Youth Building\nJoin us for Sunday School every Sunday at 9:30am in the Justin Youth Building! All students entering 7th – 12th grade in the fall are welcome to join us for donuts and lemonade before Sunday School. \nEveryone will engage in the same series each week\, which will be tied into what the larger church community is focused on\, helping bridge the gap across 5th Street! \nThe first week in each series will be Youth Worship – a worship service for youth in the Justin that will use the Gathering’s model and feature a message from one of the youth staff. The following weeks\, we’ll open with announcements and worship before splitting into age-based breakout groups led by adult volunteers for discussion\, all centered around the series we’re currently digging into.
URL:https://fumcfw.org/event/yss-2/2026-04-19/
LOCATION:Justin Youth Building\, 801 W. 5th Street\, Fort Worth\, TX\, 76102\, United States
ATTACH;FMTTYPE=image/jpeg:https://fumcfw.org/wp-content/uploads/2025/09/Youth-Sunday-School25_EV.jpg
END:VEVENT
BEGIN:VEVENT
DTSTART;TZID=America/Chicago:20251207T173000
DTEND;TZID=America/Chicago:20251207T193000
DTSTAMP:20260423T104023
CREATED:20250923T183951Z
LAST-MODIFIED:20250923T183951Z
UID:10034774-1765128600-1765135800@fumcfw.org
SUMMARY:Youth Christmas Party
DESCRIPTION:Sunday\, December 7\, 2025\n5:30 – 7:30 pm | Justin Youth Building\nRegistration Required\nAll FUMCFW students in 7th-12th grade are invited to join us for our annual Christmas Party in the Justin Youth Building! This year we’re going to deck the halls of the Justin in more tinsel than you could imagine\, and we want to see your best Christmas sweaters (however you’d like to interpret that is up to you). \nWe’ll kick things off with yummy food\, play some big games from the 1st Floor Stage\, and wrap up with our annual White Elephant Gift Exchange! \nEvery year\, we have an incredible assortment of gifts (we’ve seen everything from a large\, framed painting of Jesus to a bag full of $10 in pennies) and we always encourage thinking outside the box – but please\, nothing alive (i.e. no plants\, no animals\, etc.). Everyone who brings a gift will leave with a gift\, and we’ll have some extras on hand in case you forget! \nIf you have any questions\, reach out to Rebekah. \nRegister\n\n                \n                        \n                             \n							"*" indicates required fields \n                        					\n						Δ\n						\n						\n\n					\n                        Name*\n                            \n                            \n                                                    \n                                                    First\n                                                \n                            \n                            \n                                                    \n                                                    Last\n                                                \n                            \n                        Phone*Email*\n                            \n                        Grade*\n			\n					\n					6\n			\n			\n					\n					7\n			\n			\n					\n					8\n			\n			\n					\n					9\n			\n			\n					\n					10\n			\n			\n					\n					11\n			\n			\n					\n					12\n			Dietary Restrictions
URL:https://fumcfw.org/event/youth-xmasparty25/
LOCATION:Justin Youth Building\, 801 W. 5th Street\, Fort Worth\, TX\, 76102\, United States
ATTACH;FMTTYPE=image/jpeg:https://fumcfw.org/wp-content/uploads/2025/09/Youth-Christmasd-Party25_EV.jpg
END:VEVENT
BEGIN:VEVENT
DTSTART;TZID=America/Chicago:20251026T173000
DTEND;TZID=America/Chicago:20251026T193000
DTSTAMP:20260423T104023
CREATED:20250918T174558Z
LAST-MODIFIED:20250918T174617Z
UID:10034779-1761499800-1761507000@fumcfw.org
SUMMARY:Youth Halloween Party
DESCRIPTION:Sunday\, October 26\, 2025\n5:30 – 7:30 pm | Justin Youth Building\nRegistration Required\nIt’s time for our Annual Youth Halloween Party for 7th through 12th graders! This year\, we’re dressing up in our best Medieval gear to play games\, eat food\, and participate in some light jousting. This is an event you don’t want to miss! \nIf you have any questions\, please reach out to Claire. \nRegister\n\n                \n                        \n                             \n							"*" indicates required fields \n                        					\n						Δ\n						\n						\n\n					\n                        Name*\n                            \n                            \n                                                    \n                                                    First\n                                                \n                            \n                            \n                                                    \n                                                    Last\n                                                \n                            \n                        Email*\n                            \n                        Phone*Grade*\n			\n					\n					6\n			\n			\n					\n					7\n			\n			\n					\n					8\n			\n			\n					\n					9\n			\n			\n					\n					10\n			\n			\n					\n					11\n			\n			\n					\n					12\n			Dietary Restrictions
URL:https://fumcfw.org/event/youth-halloween25/
LOCATION:Justin Youth Building\, 801 W. 5th Street\, Fort Worth\, TX\, 76102\, United States
ATTACH;FMTTYPE=image/png:https://fumcfw.org/wp-content/uploads/2025/09/Youth-Halloween-Party25_EV.png
END:VEVENT
BEGIN:VEVENT
DTSTART;TZID=America/Chicago:20250907T183000
DTEND;TZID=America/Chicago:20250907T193000
DTSTAMP:20260423T104023
CREATED:20250408T171049Z
LAST-MODIFIED:20250408T171105Z
UID:10033917-1757269800-1757273400@fumcfw.org
SUMMARY:Youth Fall Kick-Off
DESCRIPTION:Sunday\, September 7\, 2025\n6:30 – 7:30 pm | The Justin Youth Building\nRegistration appreciated\, but not required\nHelp us kick off the school year by celebrating 70 years of the Justin Building with a 70s-themed party! Come in your best disco costumes for games\, good food\, and more. This event is for current 7th-12th graders. \nIf your student has food allergies\, please let the staff know.\nContact Rebekah Davis or Mirta Patino with any questions. \n  \nRegister\n\n                \n                        \n                             \n							"*" indicates required fields \n                        					\n						Δ\n						\n						\n\n					\n                        Student Names*Click the + button to the right to add multiple names.First NameLast Name    Add   RemoveEmail*\n                            \n                        Phone*Please list any food allergies below\n          \n            \n            \n            \n            \n            \n            \n            \n            \n            \n            \n            \n            \n            \n        \n                        \n                        \n		                \n		                \n\n 
URL:https://fumcfw.org/event/kickoff25/
LOCATION:Justin Youth Building\, 801 W. 5th Street\, Fort Worth\, TX\, 76102\, United States
ATTACH;FMTTYPE=image/jpeg:https://fumcfw.org/wp-content/uploads/2025/04/Youth-Fall-Kick-Off25_EV.jpg
END:VEVENT
BEGIN:VEVENT
DTSTART;TZID=America/Chicago:20250817T093000
DTEND;TZID=America/Chicago:20250817T103000
DTSTAMP:20260423T104023
CREATED:20250408T145200Z
LAST-MODIFIED:20250731T175049Z
UID:10033923-1755423000-1755426600@fumcfw.org
SUMMARY:Youth Parent Meeting
DESCRIPTION:Sunday\, August 17\, 2025\n9:30 – 10:30 am | Justin Building\nThis is our opportunity to check in with parents and students in 7th-12th grade and go over what this year is going to look like in the Youth Ministries! \nWe’ll cover:\n– Weekly programming updates\, including changes to Sunday morning and Sunday evening programs;\n– Big event and trip schedules for the upcoming year; and\n– Family partnership and volunteer opportunities. \nThe Family Meeting will be from\n9:30 – 10:30 am on the 1st Floor of the Justin Youth Building across 5th Street from the main church building\, but we’ll have some time after for staff to answer any questions you might have.
URL:https://fumcfw.org/event/parent25/
LOCATION:Justin Youth Building\, 801 W. 5th Street\, Fort Worth\, TX\, 76102\, United States
ATTACH;FMTTYPE=image/jpeg:https://fumcfw.org/wp-content/uploads/2022/07/You-Parent-Meeting22_EV.jpg
END:VEVENT
BEGIN:VEVENT
DTSTART;TZID=America/Chicago:20250525T093000
DTEND;TZID=America/Chicago:20250525T103000
DTSTAMP:20260423T104023
CREATED:20240808T145344Z
LAST-MODIFIED:20240911T141929Z
UID:10025744-1748165400-1748169000@fumcfw.org
SUMMARY:Youth Sunday School
DESCRIPTION:Sundays | 9:30 – 10:30 am | Justin Youth Building\nJoin us for Sunday School every Sunday at 9:30am in the Justin Youth Building! All students entering 7th – 12th grade in the fall are welcome to join us for donuts and lemonade before Sunday School \nThis year\, Sunday School is going to look a little different: instead of things being divided solely into Middle School and High School programs\, everyone will engage in the same series each week. Each series will be tied into what the larger church community is focused on\, helping bridge the gap across 5th Street! \nThe first week in each series will be Youth Worship – a worship service for youth in the Justin that will use the Gathering’s model and feature a message from one of the youth staff. The following weeks\, we’ll open with announcements and worship before splitting into age-based breakout groups led by adult volunteers for discussion\, all centered around the series that we’re currently digging into. \nContact: Matt Britt \n 
URL:https://fumcfw.org/event/youthss24/2025-05-25/
LOCATION:Justin Youth Building\, 801 W. 5th Street\, Fort Worth\, TX\, 76102\, United States
ATTACH;FMTTYPE=image/jpeg:https://fumcfw.org/wp-content/uploads/2021/06/Youth-Sunday-School21_EV-scaled.jpg
END:VEVENT
BEGIN:VEVENT
DTSTART;TZID=America/Chicago:20250504T173000
DTEND;TZID=America/Chicago:20250504T193000
DTSTAMP:20260423T104023
CREATED:20210827T200651Z
LAST-MODIFIED:20241009T204905Z
UID:10031858-1746379800-1746387000@fumcfw.org
SUMMARY:The Refuge
DESCRIPTION:Sundays\n5:30 – 7:30 pm | Justin Youth Building\nStudents in 7th – 12th Grade are invited to join us in the Justin Youth Building every Sunday evening from 5:30 – 7:30 pm for our Sunday evening gathering called The Refuge! This is a time for youth to recharge and to hang out together. We begin each Refuge with a shared meal\, but every week is different\, so we’ll rotate between opportunities for service\, worship\, learning and fun! \nContact: Matt Britt
URL:https://fumcfw.org/event/refuge24/2025-05-04/
LOCATION:Justin Youth Building\, 801 W. 5th Street\, Fort Worth\, TX\, 76102\, United States
ATTACH;FMTTYPE=image/jpeg:https://fumcfw.org/wp-content/uploads/2021/08/The-Refuge21_EV-scaled.jpg
END:VEVENT
BEGIN:VEVENT
DTSTART;TZID=America/Chicago:20250406T173000
DTEND;TZID=America/Chicago:20250406T193000
DTSTAMP:20260423T104023
CREATED:20250303T185152Z
LAST-MODIFIED:20250303T185219Z
UID:10033903-1743960600-1743967800@fumcfw.org
SUMMARY:Enchanted to Meet You Baby Shower
DESCRIPTION:Sunday\, April 6\, 2025\n5:30 – 7:30 pm | Justin Youth Building\nAll students and families are invited to join us as we celebrate alongside Rebekah\, Brad and Henry as they get ready to welcome another member of their family! The Youth Staff will host a Baby Shower from 5:30-7:30pm on April 6 for Rebekah and Baby Thea. We’ll have snacks\, games\, and opportunities for everyone to show the Davis family some love! \nIf you would like to support the Davis family\, we encourage you to help us fund their nursery chair\, and you can find their full registry here. If you would like to help with prep for the shower or have any questions about this event\, please reach out to Mirta!
URL:https://fumcfw.org/event/enchanted25/
LOCATION:Justin Youth Building\, 801 W. 5th Street\, Fort Worth\, TX\, 76102\, United States
ATTACH;FMTTYPE=image/jpeg:https://fumcfw.org/wp-content/uploads/2025/02/Enchanted-to-Meet-You-Baby-Shower_EV.jpg
END:VEVENT
BEGIN:VEVENT
DTSTART;TZID=America/Chicago:20250216T173000
DTEND;TZID=America/Chicago:20250216T193000
DTSTAMP:20260423T104023
CREATED:20240816T202104Z
LAST-MODIFIED:20240910T162330Z
UID:10031973-1739727000-1739734200@fumcfw.org
SUMMARY:Youth Worship Night — The Good Place
DESCRIPTION:Sunday\, February 16\, 2025\n5:30 — 7:30 pm | Justin Youth Building\nStudents in 7th-12th grade are invited to join us for a night of worship\, led by Director of Youth Ministries Matt Britt.
URL:https://fumcfw.org/event/youthworship-goodplace/
LOCATION:Justin Youth Building\, 801 W. 5th Street\, Fort Worth\, TX\, 76102\, United States
ATTACH;FMTTYPE=image/jpeg:https://fumcfw.org/wp-content/uploads/2024/08/Good-Place-Youth-Worship-Night_EV.jpg
END:VEVENT
BEGIN:VEVENT
DTSTART;TZID=America/Chicago:20250209T140000
DTEND;TZID=America/Chicago:20250209T160000
DTSTAMP:20260423T104023
CREATED:20240906T145638Z
LAST-MODIFIED:20250102T201548Z
UID:10032099-1739109600-1739116800@fumcfw.org
SUMMARY:Youth Spring Kick Off
DESCRIPTION:Sunday\, February 9\, 2025\n2:00 – 4:00 pm | Justin Youth Building\nAll students in 6th-12th grade are invited to join us for Refuge’s Spring Kick Off! We are so excited to start our semester together and we hope you’ll join us for food\, games and more! \nContact: Matt Britt
URL:https://fumcfw.org/event/springkick25/
LOCATION:Justin Youth Building\, 801 W. 5th Street\, Fort Worth\, TX\, 76102\, United States
ATTACH;FMTTYPE=image/jpeg:https://fumcfw.org/wp-content/uploads/2024/09/FUMCFW-Youth-Spring-Kick-Off25_EV.jpg
END:VEVENT
END:VCALENDAR