BEGIN:VCALENDAR
VERSION:2.0
PRODID:-//First United Methodist Church of Fort Worth - ECPv6.15.20//NONSGML v1.0//EN
CALSCALE:GREGORIAN
METHOD:PUBLISH
X-WR-CALNAME:First United Methodist Church of Fort Worth
X-ORIGINAL-URL:https://fumcfw.org
X-WR-CALDESC:Events for First United Methodist Church of Fort Worth
REFRESH-INTERVAL;VALUE=DURATION:PT1H
X-Robots-Tag:noindex
X-PUBLISHED-TTL:PT1H
BEGIN:VTIMEZONE
TZID:America/Chicago
BEGIN:DAYLIGHT
TZOFFSETFROM:-0600
TZOFFSETTO:-0500
TZNAME:CDT
DTSTART:20250309T080000
END:DAYLIGHT
BEGIN:STANDARD
TZOFFSETFROM:-0500
TZOFFSETTO:-0600
TZNAME:CST
DTSTART:20251102T070000
END:STANDARD
BEGIN:DAYLIGHT
TZOFFSETFROM:-0600
TZOFFSETTO:-0500
TZNAME:CDT
DTSTART:20260308T080000
END:DAYLIGHT
BEGIN:STANDARD
TZOFFSETFROM:-0500
TZOFFSETTO:-0600
TZNAME:CST
DTSTART:20261101T070000
END:STANDARD
BEGIN:DAYLIGHT
TZOFFSETFROM:-0600
TZOFFSETTO:-0500
TZNAME:CDT
DTSTART:20270314T080000
END:DAYLIGHT
BEGIN:STANDARD
TZOFFSETFROM:-0500
TZOFFSETTO:-0600
TZNAME:CST
DTSTART:20271107T070000
END:STANDARD
END:VTIMEZONE
BEGIN:VEVENT
DTSTART;TZID=America/Chicago:20260419T090000
DTEND;TZID=America/Chicago:20260419T120000
DTSTAMP:20260424T151331
CREATED:20251222T152942Z
LAST-MODIFIED:20251223T184024Z
UID:10034878-1776589200-1776600000@fumcfw.org
SUMMARY:2026 Spring Academy Sunday School Registration
DESCRIPTION:Sundays\, February 1 – May 10\nIn-person registration begins on Sunday\, January 4 in the Children’s Wing\nOnline registration will begin Monday\, January 5 at 9:00 am\nWe are about to begin a new semester of our super-fun and content-rich Children’s Academy Sunday School for Children Kindergarten through 5th Grade. Once enrolled in Academy classes\, children will stay in the same rooms with the same teachers all semester. Some classes are designed for younger elementary and some for older elementary. 5th Grade has its own class\, called High Five. While the subject areas are varied\, each class will work from the same Bible story and memory verse each month. \n  \nContact: Megan Ladd \n Class Descriptions\n  \nThreadbare Puppet Studio | K – 1st\nOur church has a national reputation for our innovative use of puppetry — from shadow puppets to giant processional puppets\, to the beloved Wendell and Lorraine. Children build different kinds of puppets out of household objects\, and even put on puppet shows.\n\nWorkshop of Wonders (W.O.W.) | 2nd – 4th\nThis class is part Sunday School\, part Children’s Museum. There are times when the whole group will sit together to experience a Bible story\, a prayer\, and a devotion based on one of the Workshop of Wonders activities. And there will be plenty of time for children to explore what they choose to at their own pace. They can build ramps and marble runs\, experiment at the Light Laboratory\, see what can fly at the Flight Lab\, and much more.\n\nMad Scientists | K – 2nd\nIs your child fascinated with how things work? It doesn’t get much more hands-on than Mad Scientists\, where children explore the wonder of God’s world through numerous fun experiments\, writing in their log books (prayer journals)\, and even taking care of live animals and plants.\n\nCreation Care | K – 2nd\nChildren explore the values of care\, kindness\, gentleness\, and responsibility as they take care of several classroom plants and animals. The class helps reinforce the important role children play in caring for God’s world and for one another.\n\nDig In | 2nd – 4th\nThis room is a real dig site! Children search for scripture tablets and Bible artifacts. They scour the entire Children’s Wing for hidden code breakers and clues. No two weeks are alike in Dig In. It’s Indiana Jones-meets-Sunday morning.\n\nFaith In Action | 2nd – 4th\nWe’re bringing back an old favorite. In Faith in Action children take the stage to play improv and theatre games\, put on costumes to act out Bible stories\, and use instruments to create a Bible story “radio show.” The children become a part of the story!\n\nPlay Together\, Pray Together | K – 1st\nPlay is the work of childhood. Play is how children make sense of the world and their place in it. Children will explore the great stories and ideas of our faith through play. They won’t just build with Legos\, but with GIANT Legos. They’ll play GIANT Bible board games where the children themselves are the game pieces. Ten Commandments Hopscotch\, model train layouts of Bible stories\, and so much more.\n\nThe Visual Arts | 2nd – 4th\nChildren paint\, sculpt\, mold\, and build. Their work is featured throughout the Children’s Wing as well as in worship. This is no mere “Sunday School craft class.” These kids make art!\n\nTherapy Dogs | 3rd – 4th\nA hit since they first joined us\, our therapy dog teams are back! Children work with trainers and real therapy dogs each week. This class explores some of the many ways therapy dog teams exhibit the Christian traits — love\, peace\, patience\, kindness\, forgiveness\, acceptance — we all should have. Because we have actual live dogs in this class\, a requirement is that your child not be allergic to dogs.\n\nHigh Five | 5th\nALL our Fifth Graders have their own class. They explore their faith through Testament\, our creative journaling\, and holy conversation curriculum. They also have time to hang out with friends in a cool environment that they get to help design. This class is like Pre-Youth — loads of content\, loads of fun.\n \n  \nRegister\n\n\n                \n                        \n                             \n							"*" indicates required fields \n                        					\n						Δ\n						\n						\n\n					\n                        Child's Last Name*Child's First Name*Child's Grade (2025-2026)*Choose OneKindergarten1st grade2nd Grade3rd grade4th grade5th gradeChild's First Choice*Choose OneThreadbare Puppet Studio | K – 1stWorkshop of Wonders (W.O.W) | K - 1stDig In | 2nd - 4thPlay Together\, Pray Together | 2nd - 4thVisual Arts | 2nd - 4thHigh Five | 5thPlease consider each opportunity and choose carefully — we want you to stick with your choice the entire semester!Child's Second Choice*Choose OneThreadbare Puppet Studio | K – 1stWorkshop of Wonders (W.O.W) | K - 1stDig In | 2nd - 4thPlay Together\, Pray Together | 2nd - 4thVisual Arts | 2nd - 4thHigh Five | 5thPlease consider each opportunity and choose carefully — we want you to stick with your choice the entire semester!Join waitlist for:\n								\n								Therapy Dogs | 3rd-4th\n							Therapy Dogs class is full.  If you sign up for the wait list you  will be first in line for the Spring Academy Therapy Dogs.Will your child go to Children’s Choir/Junior Worship Leaders or Mission?*\n			\n					\n					Children’s Choir/Junior Worship Leaders\n			\n			\n					\n					Mission\n			Parent or Guardian Name(s)*First and LastPhone*Email*\n                            \n                        Do you want to volunteer to be an academy teacher?*\n			\n					\n					Yes\n			\n			\n					\n					No\n			Volunteer Contact Email*\n                            \n                        I understand that by signing up\, I agree to receive text messages from Children’s Ministry regarding events\, updates\, and reminders.*\n								\n								Yes\n							Do you give permission for FUMCFW Children's Ministry to take and use photographs\, or digital images of my child\, for educational\, promotional\, or informational purposes?*\n			\n					\n					No\n			\n			\n					\n					Yes\n			\n			\n					\n					Yes\, but only in the Children's Wing of the church\n			\n          \n            \n            \n            \n            \n            \n            \n            \n            \n            \n            \n            \n            \n            \n        \n                        \n                        \n		                \n		                \n\n 
URL:https://fumcfw.org/event/springacademy26/2026-04-19/
LOCATION:Children’s Wing
ATTACH;FMTTYPE=image/jpeg:https://fumcfw.org/wp-content/uploads/2019/01/Spring-Children’s-Academy-Sunday-School_EV.jpg
END:VEVENT
BEGIN:VEVENT
DTSTART;VALUE=DATE:20260130
DTEND;VALUE=DATE:20260201
DTSTAMP:20260424T151331
CREATED:20251212T172733Z
LAST-MODIFIED:20260123T184529Z
UID:10034835-1769731200-1769903999@fumcfw.org
SUMMARY:Jr. Worship Leaders Hogwarts Retreat
DESCRIPTION:January 30 – January 31\, 2026\nChildren’s Wing 2nd floor\n$10 | Registration is required by noon on January 16\nHello\, Junior Worship Leader Families (3rd-5th Grade Choir). January 30-31 – a Friday/Saturday—is our Hogwarts-themed retreat and lock-in here at the church. We’ll start at 6:00 pm on Friday with pizza\, and end at 10:00 am Saturday after Mister Mark pancakes. \nWe’ll sing\, have wizarding classes (devotions in disguise)\, worship\, a visit from Hedwig the owl\, and LOTS more.\nContact: Megan Ladd or 817-339-5093 \n  \nRegister\n\n                \n                        \n                             \n							"*" indicates required fields \n                        					\n						Δ\n						\n						\n\n					\n                        Product NameChild 1Child Name*\n                            \n                            \n                                                    \n                                                    First\n                                                \n                            \n                            \n                                                    \n                                                    Last\n                                                \n                            \n                        Please list any allergies or dietary restrictionsWould you like to register another child?*\n			\n					\n					Yes +$10\n			\n			\n					\n					No\n			Child 2Child Name*\n                            \n                            \n                                                    \n                                                    First\n                                                \n                            \n                            \n                                                    \n                                                    Last\n                                                \n                            \n                        Please list any allergies or dietary restrictionsParent infoParent Name*\n                            \n                            \n                                                    \n                                                    First\n                                                \n                            \n                            \n                                                    \n                                                    Last\n                                                \n                            \n                        Parent Email*\n                            \n                        Parent Phone*Do you want to volunteer to chaperone the choir retreat?*\n			\n					\n					Yes\n			\n			\n					\n					No\n			Volunteer Contact Email*\n                            \n                        PaymentTotal\n							\n						Credit Card\n					\n						Cardholder Name\n					\n					\n						Card Details\n					\n				Billing Address*    \n                    \n                         \n                                        \n                                        Street Address\n                                    \n                                        \n                                        Address Line 2\n                                    \n                                    \n                                    City\n                                 \n                                        AlabamaAlaskaAmerican SamoaArizonaArkansasCaliforniaColoradoConnecticutDelawareDistrict of ColumbiaFloridaGeorgiaGuamHawaiiIdahoIllinoisIndianaIowaKansasKentuckyLouisianaMaineMarylandMassachusettsMichiganMinnesotaMississippiMissouriMontanaNebraskaNevadaNew HampshireNew JerseyNew MexicoNew YorkNorth CarolinaNorth DakotaNorthern Mariana IslandsOhioOklahomaOregonPennsylvaniaPuerto RicoRhode IslandSouth CarolinaSouth DakotaTennesseeTexasUtahU.S. Virgin IslandsVermontVirginiaWashingtonWest VirginiaWisconsinWyomingArmed Forces AmericasArmed Forces EuropeArmed Forces Pacific\n                                        State\n                                      \n                                    \n                                    ZIP Code\n                                \n                    \n                CAPTCHA
URL:https://fumcfw.org/event/jwl-hogwarts26/
LOCATION:Children’s Wing
ATTACH;FMTTYPE=image/jpeg:https://fumcfw.org/wp-content/uploads/2024/12/Junior-Worship-Leaders-Hogwarts-Retreat25_EV.jpg
END:VEVENT
END:VCALENDAR