BEGIN:VCALENDAR
VERSION:2.0
PRODID:-//First United Methodist Church of Fort Worth - ECPv6.15.20//NONSGML v1.0//EN
CALSCALE:GREGORIAN
METHOD:PUBLISH
X-WR-CALNAME:First United Methodist Church of Fort Worth
X-ORIGINAL-URL:https://fumcfw.org
X-WR-CALDESC:Events for First United Methodist Church of Fort Worth
REFRESH-INTERVAL;VALUE=DURATION:PT1H
X-Robots-Tag:noindex
X-PUBLISHED-TTL:PT1H
BEGIN:VTIMEZONE
TZID:America/Chicago
BEGIN:DAYLIGHT
TZOFFSETFROM:-0600
TZOFFSETTO:-0500
TZNAME:CDT
DTSTART:20250309T080000
END:DAYLIGHT
BEGIN:STANDARD
TZOFFSETFROM:-0500
TZOFFSETTO:-0600
TZNAME:CST
DTSTART:20251102T070000
END:STANDARD
BEGIN:DAYLIGHT
TZOFFSETFROM:-0600
TZOFFSETTO:-0500
TZNAME:CDT
DTSTART:20260308T080000
END:DAYLIGHT
BEGIN:STANDARD
TZOFFSETFROM:-0500
TZOFFSETTO:-0600
TZNAME:CST
DTSTART:20261101T070000
END:STANDARD
BEGIN:DAYLIGHT
TZOFFSETFROM:-0600
TZOFFSETTO:-0500
TZNAME:CDT
DTSTART:20270314T080000
END:DAYLIGHT
BEGIN:STANDARD
TZOFFSETFROM:-0500
TZOFFSETTO:-0600
TZNAME:CST
DTSTART:20271107T070000
END:STANDARD
END:VTIMEZONE
BEGIN:VEVENT
DTSTART;TZID=America/Chicago:20260505T113000
DTEND;TZID=America/Chicago:20260505T130000
DTSTAMP:20260422T161531
CREATED:20250903T172745Z
LAST-MODIFIED:20250904T173644Z
UID:10034346-1777980600-1777986000@fumcfw.org
SUMMARY:UMW May Luncheon: Memorial & Installation of Officers
DESCRIPTION:Tuesday\, May 5\, 2026\n11:30 am – 1:00 pm | Wesley Hall | $20.00\nReservations Required by noon on Tuesday\, April 28\, 2026\nMemorial & Installation of Officers\nJoin us for our final luncheon of the UMW 2025-2026 year for our annual UMW memorial and installation of UMW officers. \nChildcare may be requested by contacting Stephanie Brown\, sbrown@myfumc.org at least one week prior to the event. \nAll women are invited to UMW events. \n  \nRegister\n\n\n                \n                        \n                             \n							"*" indicates required fields \n                        					\n						Δ\n						\n						\n\n					\n                        Name*\n                            \n                            \n                                                    \n                                                    First\n                                                \n                            \n                            \n                                                    \n                                                    Last\n                                                \n                            \n                        Email*\n                            \n                        How are you paying?*\n			\n					\n					Online right now\n			\n			\n					\n					At the door\n			# of tickets being purchased (including your own) Quantity*\n					\n					\n						Price:\n						$20.00\n					\n					\n					 Quantity \n				Name(s) of guests (if applicable) (not including yourself)Click the "+" button to the right to add multliple names   Add   RemoveTotal due at the door\n							\n						Donation (optional)\n					\n				PaymentTotal due\n							\n						Credit Card*\n					\n						Cardholder Name\n					\n					\n						Card Details\n					\n				Billing Address*    \n                    \n                         \n                                        \n                                        Street Address\n                                    \n                                        \n                                        Address Line 2\n                                    \n                                    \n                                    City\n                                 \n                                        AlabamaAlaskaAmerican SamoaArizonaArkansasCaliforniaColoradoConnecticutDelawareDistrict of ColumbiaFloridaGeorgiaGuamHawaiiIdahoIllinoisIndianaIowaKansasKentuckyLouisianaMaineMarylandMassachusettsMichiganMinnesotaMississippiMissouriMontanaNebraskaNevadaNew HampshireNew JerseyNew MexicoNew YorkNorth CarolinaNorth DakotaNorthern Mariana IslandsOhioOklahomaOregonPennsylvaniaPuerto RicoRhode IslandSouth CarolinaSouth DakotaTennesseeTexasUtahU.S. Virgin IslandsVermontVirginiaWashingtonWest VirginiaWisconsinWyomingArmed Forces AmericasArmed Forces EuropeArmed Forces Pacific\n                                        State\n                                      \n                                    \n                                    ZIP Code
URL:https://fumcfw.org/event/umw-mayluncheon26/
LOCATION:Wesley Hall
ATTACH;FMTTYPE=image/jpeg:https://fumcfw.org/wp-content/uploads/2025/08/UMW-May-Luncheon26_EV.jpg
END:VEVENT
END:VCALENDAR